BEGIN:VCALENDAR
VERSION:2.0
PRODID:SchoolNow
CALSCALE:GREGORIAN
BEGIN:VEVENT
UID:ff3431ca-6b9b-11ef-ac11-0ebcdc348b7b
DTSTAMP:20250813T200407Z
SUMMARY:CDD Board Meeting - Aug. 2025
LOCATION:Rizzetta & Company\, Inc.\, 9530 Marketplace Road\, Suite 206\, Fo
 rt Myers\, Florida 33912
URL;VALUE=URI:https://www.porticocdd.org/calendar/6531736/cdd-board-meeting
 -aug-2021-clone-clone-clone-clone-clone-clone-clone-clone-clone-clone-clon
 e-clone
DTSTART:20250821T140000Z
DTEND:20250821T150000Z
ATTACH;FILENAME=2025-08-21 - Portico CDD - Agenda.pdf;FMTTYPE=application/p
 df:https://campussuite-storage.s3.amazonaws.com/prod/1558893/3ebd7914-ea9b
 -11e9-a4d9-0a31933f87ea/2992816/a39f6f6c-7880-11f0-966c-0a58a9feac02/file/
 2025-08-21 - Portico CDD - Agenda.pdf
END:VEVENT
END:VCALENDAR
